Package: HTqPCR Version: 1.65.0 Maintainer: Matthew N. McCall MaintainerEmail: mccallm at gmail.com git_url: https://git.bioconductor.org/packages/HTqPCR git_branch: devel git_last_commit: dad1902 git_last_commit_date: 2025-10-29 11:35:16 -0500 (Wed, 29 Oct 2025)