Package: HTSFilter Version: 1.51.0 Maintainer: Andrea Rau MaintainerEmail: andrea.rau at inrae.fr git_url: https://git.bioconductor.org/packages/HTSFilter git_branch: devel git_last_commit: 675388a git_last_commit_date: 2025-10-29 10:13:32 -0500 (Wed, 29 Oct 2025)