Package: HELP Version: 1.69.0 Command: /home/biocbuild/bbs-3.23-bioc/R/bin/R CMD INSTALL HELP StartedAt: 2025-11-11 15:18:19 -0500 (Tue, 11 Nov 2025) EndedAt: 2025-11-11 15:18:23 -0500 (Tue, 11 Nov 2025) EllapsedTime: 3.7 seconds RetCode: 0 Status: OK