Package: HELP Version: 1.69.0 Command: /home/biocbuild/bbs-3.23-bioc/R/bin/R CMD build --keep-empty-dirs --no-resave-data HELP StartedAt: 2025-11-14 18:02:35 -0500 (Fri, 14 Nov 2025) EndedAt: 2025-11-14 18:02:46 -0500 (Fri, 14 Nov 2025) EllapsedTime: 11.0 seconds RetCode: 0 Status: OK PackageFile: HELP_1.69.0.tar.gz PackageFileSize: 1000 KiB