Package: HELP Version: 1.69.0 Command: /Library/Frameworks/R.framework/Resources/bin/R CMD INSTALL HELP StartedAt: 2025-11-13 15:10:01 -0500 (Thu, 13 Nov 2025) EndedAt: 2025-11-13 15:10:03 -0500 (Thu, 13 Nov 2025) EllapsedTime: 2.2 seconds RetCode: 0 Status: OK