Package: HELP Version: 1.69.0 Command: /Library/Frameworks/R.framework/Resources/bin/R CMD build --keep-empty-dirs --no-resave-data HELP StartedAt: 2025-11-13 16:40:21 -0500 (Thu, 13 Nov 2025) EndedAt: 2025-11-13 16:40:28 -0500 (Thu, 13 Nov 2025) EllapsedTime: 7.1 seconds RetCode: 0 Status: OK PackageFile: HELP_1.69.0.tar.gz PackageFileSize: 998.3 KiB