Package: HELP Version: 1.69.0 Command: rm -rf HELP.buildbin-libdir && mkdir HELP.buildbin-libdir && /Users/biocbuild/BBS/utils/build-universal.sh HELP_1.69.0.tar.gz /Library/Frameworks/R.framework/Resources/bin/R HELP.buildbin-libdir StartedAt: 2025-11-13 23:40:59 -0500 (Thu, 13 Nov 2025) EndedAt: 2025-11-13 23:41:02 -0500 (Thu, 13 Nov 2025) EllapsedTime: 3.1 seconds RetCode: 0 Status: OK PackageFile: HELP_1.69.0.tgz PackageFileSize: 1.12 MiB