Package: HDF5Array Version: 1.39.0 Command: /Library/Frameworks/R.framework/Resources/bin/R CMD INSTALL HDF5Array StartedAt: 2025-11-13 15:10:09 -0500 (Thu, 13 Nov 2025) EndedAt: 2025-11-13 15:10:17 -0500 (Thu, 13 Nov 2025) EllapsedTime: 8.6 seconds RetCode: 0 Status: OK