Package: HDF5Array Version: 1.39.0 Command: /Library/Frameworks/R.framework/Resources/bin/R CMD build --keep-empty-dirs --no-resave-data HDF5Array StartedAt: 2025-11-13 16:40:07 -0500 (Thu, 13 Nov 2025) EndedAt: 2025-11-13 16:46:31 -0500 (Thu, 13 Nov 2025) EllapsedTime: 384.2 seconds RetCode: 0 Status: OK PackageFile: HDF5Array_1.39.0.tar.gz PackageFileSize: 7.968 MiB