############################################################################## ############################################################################## ### ### Running command: ### ### /Library/Frameworks/R.framework/Resources/bin/R CMD build --keep-empty-dirs --no-resave-data HDF5Array ### ############################################################################## ############################################################################## * checking for file ‘HDF5Array/DESCRIPTION’ ... OK * preparing ‘HDF5Array’: * checking DESCRIPTION meta-information ... OK * installing the package (it is needed to build vignettes) ----------------------------------- ERROR: dependencies ‘h5mread’, ‘rhdf5’ are not available for package ‘HDF5Array’ Perhaps try a variation of: install.packages(c('h5mread', 'rhdf5')) * removing ‘/private/var/folders/r0/l4fjk6cj5xj0j3brt4bplpl40000gt/T/Rtmpr6oTgL/Rinstcabd1a56807a/HDF5Array’ ----------------------------------- ERROR: package installation failed