Package: Gviz Version: 1.55.0 Command: /home/biocbuild/bbs-3.23-bioc/R/bin/R CMD INSTALL Gviz StartedAt: 2025-11-13 15:46:31 -0500 (Thu, 13 Nov 2025) EndedAt: 2025-11-13 15:47:37 -0500 (Thu, 13 Nov 2025) EllapsedTime: 66.4 seconds RetCode: 0 Status: OK