Package: Gviz Version: 1.55.0 Command: /home/biocbuild/bbs-3.23-bioc/R/bin/R CMD build --keep-empty-dirs --no-resave-data Gviz StartedAt: 2025-11-13 17:59:41 -0500 (Thu, 13 Nov 2025) EndedAt: 2025-11-13 18:03:16 -0500 (Thu, 13 Nov 2025) EllapsedTime: 215.2 seconds RetCode: 0 Status: OK PackageFile: Gviz_1.55.0.tar.gz PackageFileSize: 7.319 MiB