Package: Gviz Version: 1.55.0 Command: /Library/Frameworks/R.framework/Resources/bin/R CMD INSTALL Gviz StartedAt: 2025-11-13 15:25:41 -0500 (Thu, 13 Nov 2025) EndedAt: 2025-11-13 15:26:06 -0500 (Thu, 13 Nov 2025) EllapsedTime: 25.3 seconds RetCode: 0 Status: OK