Package: Gviz Version: 1.55.0 Command: /Library/Frameworks/R.framework/Resources/bin/R CMD build --keep-empty-dirs --no-resave-data Gviz StartedAt: 2025-11-13 16:38:50 -0500 (Thu, 13 Nov 2025) EndedAt: 2025-11-13 16:40:16 -0500 (Thu, 13 Nov 2025) EllapsedTime: 85.9 seconds RetCode: 0 Status: OK PackageFile: Gviz_1.55.0.tar.gz PackageFileSize: 7.78 MiB