Package: GreyListChIP Version: 1.43.0 Command: /home/biocbuild/bbs-3.23-bioc/R/bin/R CMD INSTALL GreyListChIP StartedAt: 2025-11-13 15:28:23 -0500 (Thu, 13 Nov 2025) EndedAt: 2025-11-13 15:28:59 -0500 (Thu, 13 Nov 2025) EllapsedTime: 36.0 seconds RetCode: 0 Status: OK