Package: GreyListChIP Version: 1.43.0 Command: /home/biocbuild/bbs-3.23-bioc/R/bin/R CMD build --keep-empty-dirs --no-resave-data GreyListChIP StartedAt: 2025-11-11 18:00:50 -0500 (Tue, 11 Nov 2025) EndedAt: 2025-11-11 18:01:37 -0500 (Tue, 11 Nov 2025) EllapsedTime: 47.0 seconds RetCode: 0 Status: OK PackageFile: GreyListChIP_1.43.0.tar.gz PackageFileSize: 340.8 KiB