Package: GreyListChIP Version: 1.43.0 Command: /Library/Frameworks/R.framework/Resources/bin/R CMD build --keep-empty-dirs --no-resave-data GreyListChIP StartedAt: 2025-11-12 16:25:54 -0500 (Wed, 12 Nov 2025) EndedAt: 2025-11-12 16:26:16 -0500 (Wed, 12 Nov 2025) EllapsedTime: 22.3 seconds RetCode: 0 Status: OK PackageFile: GreyListChIP_1.43.0.tar.gz PackageFileSize: 340.3 KiB