Package: GreyListChIP Version: 1.43.0 Command: rm -rf GreyListChIP.buildbin-libdir && mkdir GreyListChIP.buildbin-libdir && /Users/biocbuild/BBS/utils/build-universal.sh GreyListChIP_1.43.0.tar.gz /Library/Frameworks/R.framework/Resources/bin/R GreyListChIP.buildbin-libdir StartedAt: 2025-11-13 23:40:29 -0500 (Thu, 13 Nov 2025) EndedAt: 2025-11-13 23:40:45 -0500 (Thu, 13 Nov 2025) EllapsedTime: 16.4 seconds RetCode: 0 Status: OK PackageFile: GreyListChIP_1.43.0.tgz PackageFileSize: 894.1 KiB