Package: GreyListChIP Version: 1.43.0 Maintainer: Matt Eldridge MaintainerEmail: matthew.eldridge at cruk.cam.ac.uk git_url: https://git.bioconductor.org/packages/GreyListChIP git_branch: devel git_last_commit: 8633e38 git_last_commit_date: 2025-10-29 10:23:48 -0500 (Wed, 29 Oct 2025)