Package: GraphAlignment Version: 1.75.0 Command: /home/biocbuild/bbs-3.23-bioc/R/bin/R CMD INSTALL GraphAlignment StartedAt: 2025-11-17 15:08:10 -0500 (Mon, 17 Nov 2025) EndedAt: 2025-11-17 15:08:30 -0500 (Mon, 17 Nov 2025) EllapsedTime: 20.0 seconds RetCode: 0 Status: OK