Package: GraphAlignment Version: 1.75.0 Command: /home/biocbuild/bbs-3.23-bioc/R/bin/R CMD build --keep-empty-dirs --no-resave-data GraphAlignment StartedAt: 2025-11-16 17:58:54 -0500 (Sun, 16 Nov 2025) EndedAt: 2025-11-16 17:59:01 -0500 (Sun, 16 Nov 2025) EllapsedTime: 7.0 seconds RetCode: 0 Status: OK PackageFile: GraphAlignment_1.75.0.tar.gz PackageFileSize: 592 KiB