Package: GraphAlignment Version: 1.75.0 Command: /Library/Frameworks/R.framework/Resources/bin/R CMD INSTALL GraphAlignment StartedAt: 2025-11-17 15:04:40 -0500 (Mon, 17 Nov 2025) EndedAt: 2025-11-17 15:04:50 -0500 (Mon, 17 Nov 2025) EllapsedTime: 9.4 seconds RetCode: 0 Status: OK