Package: GraphAlignment Version: 1.75.0 Command: /Library/Frameworks/R.framework/Resources/bin/R CMD check --install=check:GraphAlignment.install-out.txt --library=/Library/Frameworks/R.framework/Resources/library --no-vignettes --timings GraphAlignment_1.75.0.tar.gz StartedAt: 2025-11-17 21:14:17 -0500 (Mon, 17 Nov 2025) EndedAt: 2025-11-17 21:14:30 -0500 (Mon, 17 Nov 2025) EllapsedTime: 13.2 seconds RetCode: 0 Status: OK CheckDir: GraphAlignment.Rcheck Warnings: 0