Package: GraphAlignment Version: 1.75.0 Command: /Library/Frameworks/R.framework/Resources/bin/R CMD build --keep-empty-dirs --no-resave-data GraphAlignment StartedAt: 2025-11-18 16:44:28 -0500 (Tue, 18 Nov 2025) EndedAt: 2025-11-18 16:44:33 -0500 (Tue, 18 Nov 2025) EllapsedTime: 5.1 seconds RetCode: 0 Status: OK PackageFile: GraphAlignment_1.75.0.tar.gz PackageFileSize: 592.1 KiB