Package: GraphAlignment Version: 1.75.0 Command: rm -rf GraphAlignment.buildbin-libdir && mkdir GraphAlignment.buildbin-libdir && /Users/biocbuild/BBS/utils/build-universal.sh GraphAlignment_1.75.0.tar.gz /Library/Frameworks/R.framework/Resources/bin/R GraphAlignment.buildbin-libdir StartedAt: 2025-11-18 00:36:16 -0500 (Tue, 18 Nov 2025) EndedAt: 2025-11-18 00:36:20 -0500 (Tue, 18 Nov 2025) EllapsedTime: 4.1 seconds RetCode: 0 Status: OK PackageFile: GraphAlignment_1.75.0.tgz PackageFileSize: 575.9 KiB