Package: GraphAT Version: 1.83.0 Command: /home/biocbuild/bbs-3.23-bioc/R/bin/R CMD INSTALL GraphAT StartedAt: 2025-11-11 15:16:47 -0500 (Tue, 11 Nov 2025) EndedAt: 2025-11-11 15:16:54 -0500 (Tue, 11 Nov 2025) EllapsedTime: 7.2 seconds RetCode: 0 Status: OK