Package: GraphAT Version: 1.83.0 Command: /home/biocbuild/bbs-3.23-bioc/R/bin/R CMD check --install=check:GraphAT.install-out.txt --library=/home/biocbuild/bbs-3.23-bioc/R/site-library --timings GraphAT_1.83.0.tar.gz StartedAt: 2025-11-14 00:11:51 -0500 (Fri, 14 Nov 2025) EndedAt: 2025-11-14 00:12:48 -0500 (Fri, 14 Nov 2025) EllapsedTime: 57.1 seconds RetCode: 0 Status: OK CheckDir: GraphAT.Rcheck Warnings: 0