Package: GraphAT Version: 1.83.0 Command: /Library/Frameworks/R.framework/Resources/bin/R CMD check --install=check:GraphAT.install-out.txt --library=/Library/Frameworks/R.framework/Resources/library --no-vignettes --timings GraphAT_1.83.0.tar.gz StartedAt: 2025-11-13 20:19:55 -0500 (Thu, 13 Nov 2025) EndedAt: 2025-11-13 20:20:24 -0500 (Thu, 13 Nov 2025) EllapsedTime: 28.4 seconds RetCode: 0 Status: OK CheckDir: GraphAT.Rcheck Warnings: 0