Package: GraphAT Version: 1.83.0 Command: rm -rf GraphAT.buildbin-libdir && mkdir GraphAT.buildbin-libdir && /Users/biocbuild/BBS/utils/build-universal.sh GraphAT_1.83.0.tar.gz /Library/Frameworks/R.framework/Resources/bin/R GraphAT.buildbin-libdir StartedAt: 2025-11-13 23:40:26 -0500 (Thu, 13 Nov 2025) EndedAt: 2025-11-13 23:40:30 -0500 (Thu, 13 Nov 2025) EllapsedTime: 4.1 seconds RetCode: 0 Status: OK PackageFile: GraphAT_1.83.0.tgz PackageFileSize: 1.918 MiB