Package: GrafGen Version: 1.7.0 Command: /home/biocbuild/bbs-3.23-bioc/R/bin/R CMD build --keep-empty-dirs --no-resave-data GrafGen StartedAt: 2025-11-14 17:55:54 -0500 (Fri, 14 Nov 2025) EndedAt: 2025-11-14 17:56:29 -0500 (Fri, 14 Nov 2025) EllapsedTime: 35.0 seconds RetCode: 0 Status: OK PackageFile: GrafGen_1.7.0.tar.gz PackageFileSize: 3.068 MiB