Package: GrafGen Version: 1.7.0 Command: rm -rf GrafGen.buildbin-libdir && mkdir GrafGen.buildbin-libdir && /Users/biocbuild/BBS/utils/build-universal.sh GrafGen_1.7.0.tar.gz /Library/Frameworks/R.framework/Resources/bin/R GrafGen.buildbin-libdir StartedAt: 2025-11-13 23:40:23 -0500 (Thu, 13 Nov 2025) EndedAt: 2025-11-13 23:40:36 -0500 (Thu, 13 Nov 2025) EllapsedTime: 12.3 seconds RetCode: 0 Status: OK PackageFile: GrafGen_1.7.0.tgz PackageFileSize: 3.213 MiB