Package: GrafGen Version: 1.7.0 Maintainer: William Wheeler MaintainerEmail: wheelerb at imsweb.com git_url: https://git.bioconductor.org/packages/GrafGen git_branch: devel git_last_commit: cc8e7b1 git_last_commit_date: 2025-10-29 11:28:42 -0500 (Wed, 29 Oct 2025)