Package: GmicR Version: 1.25.0 Command: /home/biocbuild/bbs-3.23-bioc/R/bin/R CMD INSTALL GmicR StartedAt: 2025-11-23 15:45:24 -0500 (Sun, 23 Nov 2025) EndedAt: 2025-11-23 15:45:51 -0500 (Sun, 23 Nov 2025) EllapsedTime: 27.4 seconds RetCode: 0 Status: OK