Package: GmicR Version: 1.25.0 Command: /Library/Frameworks/R.framework/Resources/bin/R CMD INSTALL GmicR StartedAt: 2025-11-13 15:27:10 -0500 (Thu, 13 Nov 2025) EndedAt: 2025-11-13 15:27:21 -0500 (Thu, 13 Nov 2025) EllapsedTime: 10.8 seconds RetCode: 0 Status: OK