Package: GmicR Version: 1.25.0 Command: /Library/Frameworks/R.framework/Resources/bin/R CMD build --keep-empty-dirs --no-resave-data GmicR StartedAt: 2025-11-13 16:34:41 -0500 (Thu, 13 Nov 2025) EndedAt: 2025-11-13 16:39:08 -0500 (Thu, 13 Nov 2025) EllapsedTime: 266.9 seconds RetCode: 0 Status: OK PackageFile: GmicR_1.25.0.tar.gz PackageFileSize: 3.493 MiB