Package: GmicR Version: 1.25.0 Command: rm -rf GmicR.buildbin-libdir && mkdir GmicR.buildbin-libdir && /Users/biocbuild/BBS/utils/build-universal.sh GmicR_1.25.0.tar.gz /Library/Frameworks/R.framework/Resources/bin/R GmicR.buildbin-libdir StartedAt: 2025-11-13 23:40:05 -0500 (Thu, 13 Nov 2025) EndedAt: 2025-11-13 23:40:19 -0500 (Thu, 13 Nov 2025) EllapsedTime: 14.4 seconds RetCode: 0 Status: OK PackageFile: GmicR_1.25.0.tgz PackageFileSize: 3.554 MiB