Package: GeomxTools Version: 3.15.0 Command: /home/biocbuild/bbs-3.23-bioc/R/bin/R CMD check --install=check:GeomxTools.install-out.txt --library=/home/biocbuild/bbs-3.23-bioc/R/site-library --timings GeomxTools_3.15.0.tar.gz StartedAt: 2025-11-17 00:05:13 -0500 (Mon, 17 Nov 2025) EndedAt: 2025-11-17 00:31:17 -0500 (Mon, 17 Nov 2025) EllapsedTime: 1564.2 seconds RetCode: 0 Status: OK CheckDir: GeomxTools.Rcheck Warnings: 0