Package: GeomxTools Version: 3.15.0 Command: /home/biocbuild/bbs-3.23-bioc/R/bin/R CMD build --keep-empty-dirs --no-resave-data GeomxTools StartedAt: 2025-11-11 17:50:02 -0500 (Tue, 11 Nov 2025) EndedAt: 2025-11-11 17:55:45 -0500 (Tue, 11 Nov 2025) EllapsedTime: 343.3 seconds RetCode: 0 Status: OK PackageFile: GeomxTools_3.15.0.tar.gz PackageFileSize: 15.63 MiB