Package: GeomxTools Version: 3.15.0 Command: /Library/Frameworks/R.framework/Resources/bin/R CMD check --install=check:GeomxTools.install-out.txt --library=/Library/Frameworks/R.framework/Resources/library --no-vignettes --timings GeomxTools_3.15.0.tar.gz StartedAt: 2025-11-14 20:09:07 -0500 (Fri, 14 Nov 2025) EndedAt: 2025-11-14 20:17:12 -0500 (Fri, 14 Nov 2025) EllapsedTime: 485.3 seconds RetCode: 0 Status: OK CheckDir: GeomxTools.Rcheck Warnings: 0