Package: GeomxTools Version: 3.15.0 Command: /Library/Frameworks/R.framework/Resources/bin/R CMD build --keep-empty-dirs --no-resave-data GeomxTools StartedAt: 2025-11-12 16:21:04 -0500 (Wed, 12 Nov 2025) EndedAt: 2025-11-12 16:23:24 -0500 (Wed, 12 Nov 2025) EllapsedTime: 140.4 seconds RetCode: 0 Status: OK PackageFile: GeomxTools_3.15.0.tar.gz PackageFileSize: 17.04 MiB