Package: GeomxTools Version: 3.15.0 Command: rm -rf GeomxTools.buildbin-libdir && mkdir GeomxTools.buildbin-libdir && /Users/biocbuild/BBS/utils/build-universal.sh GeomxTools_3.15.0.tar.gz /Library/Frameworks/R.framework/Resources/bin/R GeomxTools.buildbin-libdir StartedAt: 2025-11-12 20:58:48 -0500 (Wed, 12 Nov 2025) EndedAt: 2025-11-12 20:59:02 -0500 (Wed, 12 Nov 2025) EllapsedTime: 14.4 seconds RetCode: 0 Status: OK PackageFile: GeomxTools_3.15.0.tgz PackageFileSize: 15.8 MiB