Package: GeoTcgaData Version: 2.11.0 Command: /home/biocbuild/bbs-3.23-bioc/R/bin/R CMD build --keep-empty-dirs --no-resave-data GeoTcgaData StartedAt: 2025-11-13 17:47:33 -0500 (Thu, 13 Nov 2025) EndedAt: 2025-11-13 17:48:41 -0500 (Thu, 13 Nov 2025) EllapsedTime: 68.0 seconds RetCode: 0 Status: OK PackageFile: GeoTcgaData_2.11.0.tar.gz PackageFileSize: 3.318 MiB