Package: GeoTcgaData Version: 2.11.0 Command: /Library/Frameworks/R.framework/Resources/bin/R CMD INSTALL GeoTcgaData StartedAt: 2025-11-12 15:24:47 -0500 (Wed, 12 Nov 2025) EndedAt: 2025-11-12 15:25:04 -0500 (Wed, 12 Nov 2025) EllapsedTime: 16.6 seconds RetCode: 0 Status: OK