Package: GeoDiff Version: 1.17.0 Command: /home/biocbuild/bbs-3.23-bioc/R/bin/R CMD check --install=check:GeoDiff.install-out.txt --library=/home/biocbuild/bbs-3.23-bioc/R/site-library --timings GeoDiff_1.17.0.tar.gz StartedAt: 2025-11-11 23:56:31 -0500 (Tue, 11 Nov 2025) EndedAt: 2025-11-12 00:03:50 -0500 (Wed, 12 Nov 2025) EllapsedTime: 438.7 seconds RetCode: 0 Status: OK CheckDir: GeoDiff.Rcheck Warnings: 0