Package: GeoDiff Version: 1.17.0 Command: /home/biocbuild/bbs-3.23-bioc/R/bin/R CMD build --keep-empty-dirs --no-resave-data GeoDiff StartedAt: 2025-11-11 17:49:39 -0500 (Tue, 11 Nov 2025) EndedAt: 2025-11-11 17:53:43 -0500 (Tue, 11 Nov 2025) EllapsedTime: 244.2 seconds RetCode: 0 Status: OK PackageFile: GeoDiff_1.17.0.tar.gz PackageFileSize: 4.54 MiB