Package: GeoDiff Version: 1.17.0 Command: /Library/Frameworks/R.framework/Resources/bin/R CMD INSTALL GeoDiff StartedAt: 2025-11-13 15:08:23 -0500 (Thu, 13 Nov 2025) EndedAt: 2025-11-13 15:08:47 -0500 (Thu, 13 Nov 2025) EllapsedTime: 24.3 seconds RetCode: 0 Status: OK