Package: GeoDiff Version: 1.17.0 Command: /Library/Frameworks/R.framework/Resources/bin/R CMD check --install=check:GeoDiff.install-out.txt --library=/Library/Frameworks/R.framework/Resources/library --no-vignettes --timings GeoDiff_1.17.0.tar.gz StartedAt: 2025-11-13 20:11:31 -0500 (Thu, 13 Nov 2025) EndedAt: 2025-11-13 20:13:31 -0500 (Thu, 13 Nov 2025) EllapsedTime: 120.4 seconds RetCode: 0 Status: OK CheckDir: GeoDiff.Rcheck Warnings: 0