Package: GenomicSuperSignature Version: 1.19.0 Command: /home/biocbuild/bbs-3.23-bioc/R/bin/R CMD build --keep-empty-dirs --no-resave-data GenomicSuperSignature StartedAt: 2025-11-16 17:48:04 -0500 (Sun, 16 Nov 2025) EndedAt: 2025-11-16 17:50:54 -0500 (Sun, 16 Nov 2025) EllapsedTime: 170.2 seconds RetCode: 0 Status: OK PackageFile: GenomicSuperSignature_1.19.0.tar.gz PackageFileSize: 6.295 MiB