Package: GenomicSuperSignature Version: 1.19.0 Command: rm -rf GenomicSuperSignature.buildbin-libdir && mkdir GenomicSuperSignature.buildbin-libdir && /Users/biocbuild/BBS/utils/build-universal.sh GenomicSuperSignature_1.19.0.tar.gz /Library/Frameworks/R.framework/Resources/bin/R GenomicSuperSignature.buildbin-libdir StartedAt: 2025-11-14 23:34:28 -0500 (Fri, 14 Nov 2025) EndedAt: 2025-11-14 23:34:45 -0500 (Fri, 14 Nov 2025) EllapsedTime: 16.3 seconds RetCode: 0 Status: OK PackageFile: GenomicSuperSignature_1.19.0.tgz PackageFileSize: 7 MiB