Package: GenomicRanges Version: 1.63.0 Command: /home/biocbuild/bbs-3.23-bioc/R/bin/R CMD INSTALL GenomicRanges StartedAt: 2025-11-14 15:15:37 -0500 (Fri, 14 Nov 2025) EndedAt: 2025-11-14 15:15:57 -0500 (Fri, 14 Nov 2025) EllapsedTime: 19.2 seconds RetCode: 0 Status: OK